BEGIN:VCALENDAR
VERSION:2.0
PRODID:-//Jstyle - ECPv4.6.23//NONSGML v1.0//EN
CALSCALE:GREGORIAN
METHOD:PUBLISH
X-WR-CALNAME:Jstyle
X-ORIGINAL-URL:http://jstylemagazine.com
X-WR-CALDESC:Events for Jstyle
BEGIN:VEVENT
DTSTART;VALUE=DATE:20130814
DTEND;VALUE=DATE:20131001
DTSTAMP:20260421T012026
CREATED:20130828T165309Z
LAST-MODIFIED:20130828T170200Z
UID:2353-1376438400-1380585599@jstylemagazine.com
SUMMARY:Setting the World in Motion
DESCRIPTION:In the Crawford Upper Gallery of the History Center in University Circle \nThe Crawford Auto Aviation Collection is the centerpiece of this major exhibition.  Setting the World in Motion explores the impact of auto and aviation technologies on Northeast Ohio during the first half of the 20th Century.  Each piece found in the exhibit is from the museum’s own collection\, which includes over 140 antique automobiles\, 10 aircraft\, and more. \nShare this:Click to share on Twitter (Opens in new window)Click to share on Facebook (Opens in new window)Click to share on Pinterest (Opens in new window)Click to email a link to a friend (Opens in new window)Click to print (Opens in new window)
URL:http://jstylemagazine.com/event/setting-the-world-in-motion/
LOCATION:Western Reserve Historical Society\, 10825 East Blvd\, Cleveland\, OH\, 44106\, United States
END:VEVENT
BEGIN:VEVENT
DTSTART;VALUE=DATE:20130907
DTEND;VALUE=DATE:20130909
DTSTAMP:20260421T012026
CREATED:20130730T172139Z
LAST-MODIFIED:20130828T170200Z
UID:1834-1378512000-1378684799@jstylemagazine.com
SUMMARY:Cleveland Garlic Festival
DESCRIPTION:Funds from the Cleveland Garlic Festival allow North Union Farmers’ Market to operate markets weekly throughout the year in Greater Cleveland. We administer and expand our educational and charitable market programs\, which continue to be very important complements to our market season (Food Stamp enhanced purchases/EBT-SNAP\, Music at the Market\, Chef at the Market\, Mighty Locavores K-2 educational programming in Cleveland Municipal School District and much more). With the help of 150 loyal farmers and producers\, North Union Farmers Market will bring fresh\, local\, healthy food to more than 275\,000+ customers this year. \nWith events such as our garlic festival\, our partnerships and educational programming\, we are able to reach both under-served and well-served populations of shoppers throughout Northeast Ohio. \nNorth Union Farmers’ Market champions the local foods of Northeast Ohio and promotes their environmental\, economic and health benefits by connecting certified producers with consumers through a network of markets. The Cleveland Garlic Festival will further these goals by bringing awareness about the importance of local foods\, while also spreading the love of garlic! \n \nShare this:Click to share on Twitter (Opens in new window)Click to share on Facebook (Opens in new window)Click to share on Pinterest (Opens in new window)Click to email a link to a friend (Opens in new window)Click to print (Opens in new window)
URL:http://jstylemagazine.com/event/cleveland-garlic-festival/
LOCATION:Historic Shaker Square\, 13212 Shaker Square\, Cleveland\, OH\, 44120\, United States
ATTACH;FMTTYPE=image/jpeg:http://jstylemagazine.com/wp-content/uploads/2013/07/Garlic-Festival.jpg
END:VEVENT
BEGIN:VEVENT
DTSTART;VALUE=DATE:20130907
DTEND;VALUE=DATE:20130908
DTSTAMP:20260421T012026
CREATED:20130814T151923Z
LAST-MODIFIED:20130828T170200Z
UID:2333-1378512000-1378598399@jstylemagazine.com
SUMMARY:MOCA: Kevin Beasley Sound Performance
DESCRIPTION:PROGRAM RUNS FROM DAWN TO DUSK\nFree and open to all \n\nRealization artist Kevin Beasley will create a new\, multi-channel\, sound-based composition that connects MOCA Cleveland\, one of the newest buildings “on the block\,” with The Cozad-Bates House\, a nearby pre-civil war Italianate mansion that many believe played a role in the Underground Railroad. Beasley will create simultaneous sound environments in both spaces that relate the buildings by considering the relationship of time and movement to each of their histories. Unfolding in real time\, the performance will change and develop over the course of the day. \n\nShare this:Click to share on Twitter (Opens in new window)Click to share on Facebook (Opens in new window)Click to share on Pinterest (Opens in new window)Click to email a link to a friend (Opens in new window)Click to print (Opens in new window)
URL:http://jstylemagazine.com/event/moca-kevin-beasley-sound-performance/
LOCATION:MOCA\, 1400 Euclid Ave\, Cleveland\, 44106\, United States
ATTACH;FMTTYPE=image/jpeg:http://jstylemagazine.com/wp-content/uploads/2013/08/kevin_beasly_performing_at_danspace.jpg
END:VEVENT
END:VCALENDAR