BEGIN:VCALENDAR
VERSION:2.0
PRODID:-//Jstyle - ECPv4.6.23//NONSGML v1.0//EN
CALSCALE:GREGORIAN
METHOD:PUBLISH
X-WR-CALNAME:Jstyle
X-ORIGINAL-URL:http://jstylemagazine.com
X-WR-CALDESC:Events for Jstyle
BEGIN:VEVENT
DTSTART;VALUE=DATE:20130814
DTEND;VALUE=DATE:20131001
DTSTAMP:20260423T144713
CREATED:20130828T165309Z
LAST-MODIFIED:20130828T170200Z
UID:2353-1376438400-1380585599@jstylemagazine.com
SUMMARY:Setting the World in Motion
DESCRIPTION:In the Crawford Upper Gallery of the History Center in University Circle \nThe Crawford Auto Aviation Collection is the centerpiece of this major exhibition.  Setting the World in Motion explores the impact of auto and aviation technologies on Northeast Ohio during the first half of the 20th Century.  Each piece found in the exhibit is from the museum’s own collection\, which includes over 140 antique automobiles\, 10 aircraft\, and more. \nShare this:Click to share on Twitter (Opens in new window)Click to share on Facebook (Opens in new window)Click to share on Pinterest (Opens in new window)Click to email a link to a friend (Opens in new window)Click to print (Opens in new window)
URL:http://jstylemagazine.com/event/setting-the-world-in-motion/
LOCATION:Western Reserve Historical Society\, 10825 East Blvd\, Cleveland\, OH\, 44106\, United States
END:VEVENT
BEGIN:VEVENT
DTSTART;TZID=America/New_York:20130901T200000
DTEND;TZID=America/New_York:20130901T200000
DTSTAMP:20260423T144713
CREATED:20130731T182721Z
LAST-MODIFIED:20130828T170200Z
UID:1912-1378065600-1378065600@jstylemagazine.com
SUMMARY:Matisyahu: House of Blues Cleveland
DESCRIPTION:Matisyahu will be in Cleveland on September 1 at The House of Blues with Rebelution\, Collie Buddz and Zion★I as part of The Good Times Summer Tour 2013 \nShare this:Click to share on Twitter (Opens in new window)Click to share on Facebook (Opens in new window)Click to share on Pinterest (Opens in new window)Click to email a link to a friend (Opens in new window)Click to print (Opens in new window)
URL:http://jstylemagazine.com/event/matisyahu-house-of-blues-cleveland/
LOCATION:House of Blues Cleveland\, 308 Euclid Avenue\, Cleveland\, OH\, 44114\, United States
ATTACH;FMTTYPE=image/png:http://jstylemagazine.com/wp-content/uploads/2013/07/Screen-shot-2013-07-31-at-2.21.16-PM.png
END:VEVENT
END:VCALENDAR